BEGIN:VCALENDAR
VERSION:2.0
PRODID:-//GSR - ECPv6.15.17//NONSGML v1.0//EN
CALSCALE:GREGORIAN
METHOD:PUBLISH
X-ORIGINAL-URL:https://www.gsr.nl
X-WR-CALDESC:Evenementen voor GSR
REFRESH-INTERVAL;VALUE=DURATION:PT1H
X-Robots-Tag:noindex
X-PUBLISHED-TTL:PT1H
BEGIN:VTIMEZONE
TZID:Europe/Amsterdam
BEGIN:DAYLIGHT
TZOFFSETFROM:+0100
TZOFFSETTO:+0200
TZNAME:CEST
DTSTART:20210328T010000
END:DAYLIGHT
BEGIN:STANDARD
TZOFFSETFROM:+0200
TZOFFSETTO:+0100
TZNAME:CET
DTSTART:20211031T010000
END:STANDARD
BEGIN:DAYLIGHT
TZOFFSETFROM:+0100
TZOFFSETTO:+0200
TZNAME:CEST
DTSTART:20220327T010000
END:DAYLIGHT
BEGIN:STANDARD
TZOFFSETFROM:+0200
TZOFFSETTO:+0100
TZNAME:CET
DTSTART:20221030T010000
END:STANDARD
BEGIN:DAYLIGHT
TZOFFSETFROM:+0100
TZOFFSETTO:+0200
TZNAME:CEST
DTSTART:20230326T010000
END:DAYLIGHT
BEGIN:STANDARD
TZOFFSETFROM:+0200
TZOFFSETTO:+0100
TZNAME:CET
DTSTART:20231029T010000
END:STANDARD
BEGIN:DAYLIGHT
TZOFFSETFROM:+0100
TZOFFSETTO:+0200
TZNAME:CEST
DTSTART:20240331T010000
END:DAYLIGHT
BEGIN:STANDARD
TZOFFSETFROM:+0200
TZOFFSETTO:+0100
TZNAME:CET
DTSTART:20241027T010000
END:STANDARD
END:VTIMEZONE
BEGIN:VEVENT
DTSTART;TZID=Europe/Amsterdam:20230411T193000
DTEND;TZID=Europe/Amsterdam:20230411T210000
DTSTAMP:20260420T223557
CREATED:20230310T134358Z
LAST-MODIFIED:20230310T134358Z
UID:1785-1681241400-1681246800@www.gsr.nl
SUMMARY:Ouderavond Jongerencultuur
DESCRIPTION:Hoe hebben we als ouders en als docenten invloed op wat er bij de pubers speelt? \nIn onze visie spreken we uit dat we met ouders de verbinding zoeken tussen het onderwijs op school en de (geloofs-) opvoeding thuis. Daarom nodigen we u graag uit voor een ouderavond over jongerencultuur.\n\n“We worden geraakt door de gebrokenheid en geestelijke nood in de levens van jongeren. Jongeren worstelen met eenzaamheid\, psychische problemen\, onveiligheid\, armoede en kennen God vaak niet persoonlijk.” Dit citaat is afkomstig van de website van Jonathan en Janine Pellegrom\, jongerenwerkers in Rotterdam. Deze nood en gebrokenheid raakt ook onze jongeren en uw kind (eren). \n\nOp 11 april 2023 komt Jonathan op de GSR om met u en ons van gedachten te wisselen over de huidige jongerencultuur. Jonathan Pellegrom is teamleider van Youth for Christ Rotterdam\, spreker en auteur. Al ruim 12 jaar werkt hij met straatjongeren in Rotterdam en is hij betrokken bij kerkelijk jeugdwerk\, jeugdzorg en pleegzorg. Samen met Corine Zonnenberg schreef hij het boek (P)ubergeschikt (yfc.nl).\n\nVan harte welkom om hierbij aanwezig te zijn. We kijken er naar uit om met elkaar in gesprek te gaan!\nAanmelden voor deze avond kan via deze link.\n\nDatum: dinsdag 11 april 2023\nTijdstip: 19.30 uur (inloop vanaf 19.15 uur) – 21.00 uur\nLocatie: GSR Rotterdam.
URL:https://www.gsr.nl/agenda/ouderavond-jongerencultuur/
CATEGORIES:Rotterdam,Rijswijk
END:VEVENT
BEGIN:VEVENT
DTSTART;VALUE=DATE:20230406
DTEND;VALUE=DATE:20230407
DTSTAMP:20260420T223557
CREATED:20220708T073901Z
LAST-MODIFIED:20220708T073901Z
UID:1330-1680739200-1680825599@www.gsr.nl
SUMMARY:Paasviering
DESCRIPTION:
URL:https://www.gsr.nl/agenda/paasviering/
CATEGORIES:Rotterdam,Rijswijk
END:VEVENT
BEGIN:VEVENT
DTSTART;VALUE=DATE:20230404
DTEND;VALUE=DATE:20230405
DTSTAMP:20260420T223557
CREATED:20230310T135054Z
LAST-MODIFIED:20230310T135054Z
UID:1795-1680566400-1680652799@www.gsr.nl
SUMMARY:Excursie Aken (2e klassen)
DESCRIPTION:
URL:https://www.gsr.nl/agenda/excursie-aken-2e-klassen/
CATEGORIES:Rotterdam,Rijswijk
END:VEVENT
BEGIN:VEVENT
DTSTART;VALUE=DATE:20230403
DTEND;VALUE=DATE:20230407
DTSTAMP:20260420T223557
CREATED:20220708T073828Z
LAST-MODIFIED:20220708T073828Z
UID:1328-1680480000-1680825599@www.gsr.nl
SUMMARY:Inspiratiedagen (4)
DESCRIPTION:
URL:https://www.gsr.nl/agenda/inspiratiedagen-4/
CATEGORIES:Rotterdam
END:VEVENT
BEGIN:VEVENT
DTSTART;TZID=Europe/Amsterdam:20230321T183000
DTEND;TZID=Europe/Amsterdam:20230321T213000
DTSTAMP:20260420T223557
CREATED:20230310T134941Z
LAST-MODIFIED:20230310T134941Z
UID:1793-1679423400-1679434200@www.gsr.nl
SUMMARY:Ouderspreekavond
DESCRIPTION:
URL:https://www.gsr.nl/agenda/ouderspreekavond-2/
CATEGORIES:Rotterdam
END:VEVENT
BEGIN:VEVENT
DTSTART;TZID=Europe/Amsterdam:20230316T183000
DTEND;TZID=Europe/Amsterdam:20230316T213000
DTSTAMP:20260420T223557
CREATED:20230310T134906Z
LAST-MODIFIED:20230310T134906Z
UID:1791-1678991400-1679002200@www.gsr.nl
SUMMARY:Ouderspreekavond
DESCRIPTION:
URL:https://www.gsr.nl/agenda/ouderspreekavond/
CATEGORIES:Rotterdam
END:VEVENT
BEGIN:VEVENT
DTSTART;TZID=Europe/Amsterdam:20230314T190000
DTEND;TZID=Europe/Amsterdam:20230314T213000
DTSTAMP:20260420T223557
CREATED:20230310T134815Z
LAST-MODIFIED:20230310T134815Z
UID:1789-1678820400-1678829400@www.gsr.nl
SUMMARY:Voortgangsgesprekken
DESCRIPTION:
URL:https://www.gsr.nl/agenda/voortgangsgesprekken/
CATEGORIES:Rijswijk
END:VEVENT
BEGIN:VEVENT
DTSTART;VALUE=DATE:20230308
DTEND;VALUE=DATE:20230309
DTSTAMP:20260420T223557
CREATED:20220708T073707Z
LAST-MODIFIED:20220708T073707Z
UID:1326-1678233600-1678319999@www.gsr.nl
SUMMARY:Biddag
DESCRIPTION:
URL:https://www.gsr.nl/agenda/biddag/
CATEGORIES:Rotterdam,Rijswijk
END:VEVENT
BEGIN:VEVENT
DTSTART;VALUE=DATE:20230225
DTEND;VALUE=DATE:20230305
DTSTAMP:20260420T223557
CREATED:20220705T133535Z
LAST-MODIFIED:20220705T133535Z
UID:1310-1677283200-1677974399@www.gsr.nl
SUMMARY:Voorjaarsvakantie
DESCRIPTION:
URL:https://www.gsr.nl/agenda/voorjaarsvakantie-2/
CATEGORIES:Rotterdam,Rijswijk
END:VEVENT
BEGIN:VEVENT
DTSTART;TZID=Europe/Amsterdam:20230215T140000
DTEND;TZID=Europe/Amsterdam:20230215T163000
DTSTAMP:20260420T223557
CREATED:20220826T111645Z
LAST-MODIFIED:20221115T151420Z
UID:1405-1676469600-1676478600@www.gsr.nl
SUMMARY:GSR Experience Rotterdam (4)
DESCRIPTION:Zit jij in groep 8 en wil je naar een supertoffe\, christelijke middelbare school? Dan is nú het moment om de school van jouw keuze te vinden. Of de GSR bij je past ontdek je tijdens de GSR Experience. Een open lesmiddag op woensdagmiddag waarop je twee echte lessen volgt! De middag start om 14.30 uur (inloop 14.00 uur) en duurt tot ongeveer 16.15 uur. Meer informatie vind je hier.  \nMeld je aan via het aanmeldformulier.
URL:https://www.gsr.nl/agenda/gsr-experience-rd4/
CATEGORIES:Rotterdam
END:VEVENT
BEGIN:VEVENT
DTSTART;TZID=Europe/Amsterdam:20230208T140000
DTEND;TZID=Europe/Amsterdam:20230208T163000
DTSTAMP:20260420T223557
CREATED:20220826T111610Z
LAST-MODIFIED:20221115T151444Z
UID:1403-1675864800-1675873800@www.gsr.nl
SUMMARY:GSR Experience Rotterdam (3)
DESCRIPTION:Zit jij in groep 8 en wil je naar een supertoffe\, christelijke middelbare school? Dan is nú het moment om de school van jouw keuze te vinden. Of de GSR bij je past ontdek je tijdens de GSR Experience. Een open lesmiddag op woensdagmiddag waarop je twee echte lessen volgt! De middag start om 14.30 uur (inloop 14.00 uur) en duurt tot ongeveer 16.15 uur. Meer informatie vind je hier.  \nMeld je aan via het aanmeldformulier.
URL:https://www.gsr.nl/agenda/gsr-experience-rd3/
CATEGORIES:Rotterdam
END:VEVENT
BEGIN:VEVENT
DTSTART;VALUE=DATE:20230202
DTEND;VALUE=DATE:20230204
DTSTAMP:20260420T223557
CREATED:20220708T073609Z
LAST-MODIFIED:20220708T073609Z
UID:1324-1675296000-1675468799@www.gsr.nl
SUMMARY:Inspiratiedagen (3)
DESCRIPTION:
URL:https://www.gsr.nl/agenda/inspiratiedagen-3/
CATEGORIES:Rotterdam
END:VEVENT
BEGIN:VEVENT
DTSTART;TZID=Europe/Amsterdam:20230201T140000
DTEND;TZID=Europe/Amsterdam:20230201T163000
DTSTAMP:20260420T223557
CREATED:20220826T110658Z
LAST-MODIFIED:20221115T151555Z
UID:1389-1675260000-1675269000@www.gsr.nl
SUMMARY:GSR Experience Rijswijk (3)
DESCRIPTION:Zit jij in groep 8 en wil je naar een supertoffe\, christelijke middelbare school? Dan is nú het moment om de school van jouw keuze te vinden. Of de GSR bij je past ontdek je tijdens de GSR Experience. Een open lesmiddag op woensdagmiddag waarop je twee echte lessen volgt! De middag start om 14.30 uur (inloop 14.00 uur) en duurt tot ongeveer 16.15 uur. Meer informatie vind je hier.  \nMeld je aan via het aanmeldformulier. 
URL:https://www.gsr.nl/agenda/gsr-experience-rw3/
CATEGORIES:Rijswijk
END:VEVENT
BEGIN:VEVENT
DTSTART;TZID=Europe/Amsterdam:20230127T190000
DTEND;TZID=Europe/Amsterdam:20230127T213000
DTSTAMP:20260420T223557
CREATED:20220826T111913Z
LAST-MODIFIED:20230119T193418Z
UID:1411-1674846000-1674855000@www.gsr.nl
SUMMARY:Open Huis
DESCRIPTION:Op vrijdagavond 27 januari 2023 gaan de deuren van onze locatie in Rotterdam wagenwijd open. Tussen 19.00-21.30 uur kun jij\, samen met je ouders/verzorgers\, broertje/zusje\, de school door en ervaren wat onze school jou allemaal te bieden heeft. Er zijn vakken\, docenten\, leerlingen en nog veel meer extra’s. Ben jij er ook bij de 27e? Om 19.00 uur gaan onze deuren open en je kunt tot 21.30 uur vrij inlopen. \nWe zijn goed bereikbaar met het OV en parkeren kan rondom de school of bij het winkelcentrum Alexandrium.
URL:https://www.gsr.nl/agenda/open-huis-rd2023/
CATEGORIES:Rotterdam
END:VEVENT
BEGIN:VEVENT
DTSTART;TZID=Europe/Amsterdam:20230120T190000
DTEND;TZID=Europe/Amsterdam:20230120T213000
DTSTAMP:20260420T223557
CREATED:20220826T110751Z
LAST-MODIFIED:20230119T193451Z
UID:1392-1674241200-1674250200@www.gsr.nl
SUMMARY:Open Huis
DESCRIPTION:Op vrijdagavond 20 januari 2023 is het zover: het open huis van onze locatie in Rijswijk. Jij bent\, samen met je ouders/verzorgers\, broertje\, zusje\, van harte welkom tussen 19.00-21.30 uur om onze school te bekijken. Je kunt de hele avond even binnenlopen. Alle lokalen zijn open en je kunt de docenten en GSR-leerlingen alles vragen over onze school. Zien wij jou de 20e? Om 19.00 uur gaan onze deuren open en je kunt tot 21.30 uur vrij inlopen. \nJe kunt rondom onze school parkeren\, verder zijn we ook goed bereikbaar met het OV.
URL:https://www.gsr.nl/agenda/open-huis-2/
CATEGORIES:Rijswijk
END:VEVENT
BEGIN:VEVENT
DTSTART;VALUE=DATE:20221224
DTEND;VALUE=DATE:20230108
DTSTAMP:20260420T223557
CREATED:20220705T133435Z
LAST-MODIFIED:20220705T133435Z
UID:1308-1671840000-1673135999@www.gsr.nl
SUMMARY:Kerstvakantie
DESCRIPTION:
URL:https://www.gsr.nl/agenda/kerstvakantie-2/
CATEGORIES:Rotterdam,Rijswijk
END:VEVENT
BEGIN:VEVENT
DTSTART;VALUE=DATE:20221205
DTEND;VALUE=DATE:20221207
DTSTAMP:20260420T223557
CREATED:20220708T073517Z
LAST-MODIFIED:20220708T073517Z
UID:1322-1670198400-1670371199@www.gsr.nl
SUMMARY:Inspiratiedagen (2)
DESCRIPTION:
URL:https://www.gsr.nl/agenda/inspiratiedagen-2/
CATEGORIES:Rotterdam
END:VEVENT
BEGIN:VEVENT
DTSTART;TZID=Europe/Amsterdam:20221130T140000
DTEND;TZID=Europe/Amsterdam:20221130T163000
DTSTAMP:20260420T223557
CREATED:20220826T111459Z
LAST-MODIFIED:20221115T145540Z
UID:1401-1669816800-1669825800@www.gsr.nl
SUMMARY:GSR Experience Rotterdam (2)
DESCRIPTION:Zit jij in groep 8 en wil je naar een supertoffe\, christelijke middelbare school? Dan is nú het moment om de school van jouw keuze te vinden. Of de GSR bij je past ontdek je tijdens de GSR Experience. Een open lesmiddag op woensdagmiddag waarop je twee echte lessen volgt! De middag start om 14.30 uur (inloop 14.00 uur) en duurt tot ongeveer 16.15 uur. Meer informatie vind je hier.  \nMeld je aan via het aanmeldformulier.
URL:https://www.gsr.nl/agenda/gsr-experience-rd2/
CATEGORIES:Rotterdam
END:VEVENT
BEGIN:VEVENT
DTSTART;TZID=Europe/Amsterdam:20221123T140000
DTEND;TZID=Europe/Amsterdam:20221123T163000
DTSTAMP:20260420T223557
CREATED:20220826T110541Z
LAST-MODIFIED:20221115T145507Z
UID:1387-1669212000-1669221000@www.gsr.nl
SUMMARY:GSR Experience Rijswijk (2)
DESCRIPTION:Zit jij in groep 8 en wil je naar een supertoffe\, christelijke middelbare school? Dan is nú het moment om de school van jouw keuze te vinden. Of de GSR bij je past ontdek je tijdens de GSR Experience. Een open lesmiddag op woensdagmiddag waarop je twee echte lessen volgt! De middag start om 14.30 uur (inloop 14.00 uur) en duurt tot ongeveer 16.15 uur. Meer informatie vind je hier.  \nMeld je aan via het aanmeldformulier. 
URL:https://www.gsr.nl/agenda/gsr-experience-rw2/
CATEGORIES:Rijswijk
END:VEVENT
BEGIN:VEVENT
DTSTART;VALUE=DATE:20221110
DTEND;VALUE=DATE:20221111
DTSTAMP:20260420T223557
CREATED:20220826T111816Z
LAST-MODIFIED:20220826T111834Z
UID:1409-1668038400-1668124799@www.gsr.nl
SUMMARY:Informatiebijeenkomst ouders/verzorgers groep 8
DESCRIPTION:
URL:https://www.gsr.nl/agenda/informatiebijeenkomst-ouders-verzorgers-groep-8-rd2/
CATEGORIES:Rotterdam
END:VEVENT
BEGIN:VEVENT
DTSTART;VALUE=DATE:20221109
DTEND;VALUE=DATE:20221110
DTSTAMP:20260420T223557
CREATED:20220826T111755Z
LAST-MODIFIED:20220826T111755Z
UID:1407-1667952000-1668038399@www.gsr.nl
SUMMARY:Informatiebijeenkomst ouders/verzorgers groep 8
DESCRIPTION:
URL:https://www.gsr.nl/agenda/informatiebijeenkomst-ouders-verzorgers-groep-8-rd1/
CATEGORIES:Rotterdam
END:VEVENT
BEGIN:VEVENT
DTSTART;VALUE=DATE:20221103
DTEND;VALUE=DATE:20221104
DTSTAMP:20260420T223557
CREATED:20220826T110926Z
LAST-MODIFIED:20220826T110926Z
UID:1395-1667433600-1667519999@www.gsr.nl
SUMMARY:Informatiebijeenkomst ouders/verzorgers groep 8
DESCRIPTION:
URL:https://www.gsr.nl/agenda/informatiebijeenkomst-ouders-verzorgers-groep-8/
CATEGORIES:Rijswijk
END:VEVENT
BEGIN:VEVENT
DTSTART;VALUE=DATE:20221102
DTEND;VALUE=DATE:20221103
DTSTAMP:20260420T223557
CREATED:20220708T073256Z
LAST-MODIFIED:20220708T073256Z
UID:1319-1667347200-1667433599@www.gsr.nl
SUMMARY:Dankdag
DESCRIPTION:
URL:https://www.gsr.nl/agenda/dankdag/
CATEGORIES:Rotterdam,Rijswijk
END:VEVENT
BEGIN:VEVENT
DTSTART;TZID=Europe/Amsterdam:20221101T193000
DTEND;TZID=Europe/Amsterdam:20221101T210000
DTSTAMP:20260420T223557
CREATED:20220909T081238Z
LAST-MODIFIED:20220913T135056Z
UID:1437-1667331000-1667336400@www.gsr.nl
SUMMARY:Identiteitsavond ouders brugklassen
DESCRIPTION:We vinden het belangrijk om over onze identiteit met u door te spreken. We nodigen u daarom van harte uit voor één van de identiteitsavonden bij ons op school. \nEr wordt een drietal avonden georganiseerd: \n\nWoensdag 12 oktober 2022 | Voor ouders en verzorgers van leerlingen uit de klassen B1a\, H1a en H1b\nDinsdag 18 oktober 2022 | Voor ouders en verzorgers van leerlingen uit de klassen T1a\, V1C en T1b\nDinsdag 1 november 2022 | Voor ouders en verzorgers van leerlingen uit de klassen V1a en V1b\n\nAlle avonden beginnen om 19.30 uur. Vanaf 19.15 uur bent u welkom voor koffie/thee. Uiterlijk 21.00 uur ronden we weer af.
URL:https://www.gsr.nl/agenda/identiteitsavond-ouders-brugklassen-4/
CATEGORIES:Rotterdam
END:VEVENT
BEGIN:VEVENT
DTSTART;VALUE=DATE:20221022
DTEND;VALUE=DATE:20221030
DTSTAMP:20260420T223557
CREATED:20220705T133354Z
LAST-MODIFIED:20220705T133354Z
UID:1306-1666396800-1667087999@www.gsr.nl
SUMMARY:Herfstvakantie
DESCRIPTION:
URL:https://www.gsr.nl/agenda/herfstvakantie/
CATEGORIES:Rotterdam,Rijswijk
END:VEVENT
BEGIN:VEVENT
DTSTART;TZID=Europe/Amsterdam:20221018T193000
DTEND;TZID=Europe/Amsterdam:20221018T210000
DTSTAMP:20260420T223557
CREATED:20220909T081210Z
LAST-MODIFIED:20220913T135035Z
UID:1435-1666121400-1666126800@www.gsr.nl
SUMMARY:Identiteitsavond ouders brugklassen
DESCRIPTION:We vinden het belangrijk om over onze identiteit met u door te spreken. We nodigen u daarom van harte uit voor één van de identiteitsavonden bij ons op school. \nEr wordt een drietal avonden georganiseerd: \n\nWoensdag 12 oktober 2022 | Voor ouders en verzorgers van leerlingen uit de klassen B1a\, H1a en H1b\nDinsdag 18 oktober 2022 | Voor ouders en verzorgers van leerlingen uit de klassen T1a\, V1C en T1b\nDinsdag 1 november 2022 | Voor ouders en verzorgers van leerlingen uit de klassen V1a en V1b\n\nAlle avonden beginnen om 19.30 uur. Vanaf 19.15 uur bent u welkom voor koffie/thee. Uiterlijk 21.00 uur ronden we weer af.
URL:https://www.gsr.nl/agenda/identiteitsavond-ouders-brugklassen-3/
CATEGORIES:Rotterdam
END:VEVENT
BEGIN:VEVENT
DTSTART;VALUE=DATE:20221013
DTEND;VALUE=DATE:20221015
DTSTAMP:20260420T223557
CREATED:20220708T073202Z
LAST-MODIFIED:20220708T073202Z
UID:1317-1665619200-1665791999@www.gsr.nl
SUMMARY:Inspiratiedagen (1)
DESCRIPTION:
URL:https://www.gsr.nl/agenda/inspiratiedagen-1/
CATEGORIES:Rotterdam
END:VEVENT
BEGIN:VEVENT
DTSTART;TZID=Europe/Amsterdam:20221012T193000
DTEND;TZID=Europe/Amsterdam:20221012T210000
DTSTAMP:20260420T223557
CREATED:20220909T081134Z
LAST-MODIFIED:20220913T134941Z
UID:1433-1665603000-1665608400@www.gsr.nl
SUMMARY:Identiteitsavond ouders brugklassen
DESCRIPTION:We vinden het belangrijk om over onze identiteit met u door te spreken. We nodigen u daarom van harte uit voor één van de identiteitsavonden bij ons op school. \nEr wordt een drietal avonden georganiseerd: \n\nWoensdag 12 oktober 2022 | Voor ouders en verzorgers van leerlingen uit de klassen B1a\, H1a en H1b\nDinsdag 18 oktober 2022 | Voor ouders en verzorgers van leerlingen uit de klassen T1a\, V1C en T1b\nDinsdag 1 november 2022 | Voor ouders en verzorgers van leerlingen uit de klassen V1a en V1b\n\nAlle avonden beginnen om 19.30 uur. Vanaf 19.15 uur bent u welkom voor koffie/thee. Uiterlijk 21.00 uur ronden we weer af.
URL:https://www.gsr.nl/agenda/identiteitsavond-ouders-brugklassen-2/
CATEGORIES:Rotterdam
END:VEVENT
BEGIN:VEVENT
DTSTART;TZID=Europe/Amsterdam:20221012T140000
DTEND;TZID=Europe/Amsterdam:20221012T163000
DTSTAMP:20260420T223557
CREATED:20220826T111225Z
LAST-MODIFIED:20220921T073734Z
UID:1399-1665583200-1665592200@www.gsr.nl
SUMMARY:GSR Experience Rotterdam (1)
DESCRIPTION:Zit jij in groep 8 en wil je naar een supertoffe\, christelijke middelbare school? Dan is nú het moment om de school van jouw keuze te vinden. Of de GSR bij je past ontdek je tijdens de GSR Experience. Een open lesmiddag op woensdagmiddag waarop je twee echte lessen volgt! De middag start om 14.30 uur (inloop 14.00 uur) en duurt tot ongeveer 16.15 uur. Meer informatie vind je hier.  \nMeld je aan via het aanmeldformulier.
URL:https://www.gsr.nl/agenda/gsr-experience-rd1/
CATEGORIES:Rotterdam
END:VEVENT
BEGIN:VEVENT
DTSTART;TZID=Europe/Amsterdam:20221012T140000
DTEND;TZID=Europe/Amsterdam:20221012T163000
DTSTAMP:20260420T223557
CREATED:20220826T110326Z
LAST-MODIFIED:20220921T073457Z
UID:1385-1665583200-1665592200@www.gsr.nl
SUMMARY:GSR Experience Rijswijk (1)
DESCRIPTION:Zit jij in groep 8 en wil je naar een supertoffe\, christelijke middelbare school? Dan is nú het moment om de school van jouw keuze te vinden. Of de GSR bij je past ontdek je tijdens de GSR Experience. Een open lesmiddag op woensdagmiddag waarop je twee echte lessen volgt! De middag start om 14.30 uur (inloop 14.00 uur) en duurt tot ongeveer 16.15 uur. Meer informatie vind je hier.  \nMeld je aan via het aanmeldformulier.
URL:https://www.gsr.nl/agenda/gsr-experience-rw1/
CATEGORIES:Rijswijk
END:VEVENT
END:VCALENDAR