BEGIN:VCALENDAR
VERSION:2.0
PRODID:-//GSR - ECPv6.15.17//NONSGML v1.0//EN
CALSCALE:GREGORIAN
METHOD:PUBLISH
X-WR-CALNAME:GSR
X-ORIGINAL-URL:https://www.gsr.nl
X-WR-CALDESC:Evenementen voor GSR
REFRESH-INTERVAL;VALUE=DURATION:PT1H
X-Robots-Tag:noindex
X-PUBLISHED-TTL:PT1H
BEGIN:VTIMEZONE
TZID:Europe/Amsterdam
BEGIN:DAYLIGHT
TZOFFSETFROM:+0100
TZOFFSETTO:+0200
TZNAME:CEST
DTSTART:20230326T010000
END:DAYLIGHT
BEGIN:STANDARD
TZOFFSETFROM:+0200
TZOFFSETTO:+0100
TZNAME:CET
DTSTART:20231029T010000
END:STANDARD
BEGIN:DAYLIGHT
TZOFFSETFROM:+0100
TZOFFSETTO:+0200
TZNAME:CEST
DTSTART:20240331T010000
END:DAYLIGHT
BEGIN:STANDARD
TZOFFSETFROM:+0200
TZOFFSETTO:+0100
TZNAME:CET
DTSTART:20241027T010000
END:STANDARD
BEGIN:DAYLIGHT
TZOFFSETFROM:+0100
TZOFFSETTO:+0200
TZNAME:CEST
DTSTART:20250330T010000
END:DAYLIGHT
BEGIN:STANDARD
TZOFFSETFROM:+0200
TZOFFSETTO:+0100
TZNAME:CET
DTSTART:20251026T010000
END:STANDARD
BEGIN:DAYLIGHT
TZOFFSETFROM:+0100
TZOFFSETTO:+0200
TZNAME:CEST
DTSTART:20260329T010000
END:DAYLIGHT
BEGIN:STANDARD
TZOFFSETFROM:+0200
TZOFFSETTO:+0100
TZNAME:CET
DTSTART:20261025T010000
END:STANDARD
END:VTIMEZONE
BEGIN:VEVENT
DTSTART;VALUE=DATE:20250523
DTEND;VALUE=DATE:20250524
DTSTAMP:20260420T134530
CREATED:20250327T092622Z
LAST-MODIFIED:20250327T092622Z
UID:2879-1747958400-1748044799@www.gsr.nl
SUMMARY:Eindexamengala
DESCRIPTION:
URL:https://www.gsr.nl/agenda/eindexamengala/
CATEGORIES:Rotterdam,Rijswijk
END:VEVENT
BEGIN:VEVENT
DTSTART;TZID=Europe/Amsterdam:20250520T190000
DTEND;TZID=Europe/Amsterdam:20250520T220000
DTSTAMP:20260420T134530
CREATED:20250508T142507Z
LAST-MODIFIED:20250508T143235Z
UID:2934-1747767600-1747778400@www.gsr.nl
SUMMARY:Ouderavond 'Mediawijsheid'
DESCRIPTION:Hoe leren we onze tieners op een gezonde manier omgaan met media en smartphone? Het is voor u en ons als school een gedeelde uitdaging. Graag gaan we hierover in gesprek tijdens deze ouderavond o.l.v. Bianca Boender.  \nBianca is een bevlogen en ervaren professional in het jongerenwerk en oprichter van You!nG. Ze deelt haar inzichten over de online leefwereld van jongeren\, verhalen uit de praktijk en geeft handvatten die jou als ouder/opvoeder kunnen inspireren en versterken. \nProgramma 20 mei 2025 \n20.15 uur Inloop \n20.30 uur Ouderavond o.l.v. Bianca Boender \n21.30 uur Drankje na afloop \n22.00 uur Einde \nLocatie: GSR Rotterdam\, Almeria-erf 8 te Rotterdam. \nAanmelden via: deze link. \n\n  \nSpeciale uitnodiging voor de brugklasouders van Rotterdam: \nTijdens deze ouderavond bieden we u de unieke mogelijkheid om de escapegame te ervaren die uw kind ook gaat spelen op school. De #YNGescapegame-ervaring is een levensechte belevenis die jongeren weerbaarder en sterker maakt op sociale media. Op deze manier krijgt u een inkijkje in de online leefwereld van de jongeren. Na deze ervaring gaan we hier verder over in gesprek. De avond begint voor u dan iets eerder dan voor de ouders van andere leerlagen. \n19.15 uur Inloop \n19.30 uur Escaperoom \n20.30 uur Ouderavond o.l.v. Bianca Boender \n21.30 uur Drankje na afloop \n22.00 uur Einde \n \n\n\n\n\n\nAanmelden via: deze link
URL:https://www.gsr.nl/agenda/ouderavond-mediawijsheid/
CATEGORIES:Rotterdam,Rijswijk
END:VEVENT
BEGIN:VEVENT
DTSTART;VALUE=DATE:20250509
DTEND;VALUE=DATE:20250524
DTSTAMP:20260420T134530
CREATED:20250327T092420Z
LAST-MODIFIED:20250508T142042Z
UID:2877-1746748800-1748044799@www.gsr.nl
SUMMARY:Centraal Examen (1)
DESCRIPTION:
URL:https://www.gsr.nl/agenda/centraal-examen-1-2/
CATEGORIES:Rotterdam,Rijswijk
END:VEVENT
BEGIN:VEVENT
DTSTART;TZID=Europe/Amsterdam:20250506T000000
DTEND;TZID=Europe/Amsterdam:20250509T235900
DTSTAMP:20260420T134530
CREATED:20250327T092328Z
LAST-MODIFIED:20250508T142708Z
UID:2875-1746489600-1746835140@www.gsr.nl
SUMMARY:Edureizen
DESCRIPTION:
URL:https://www.gsr.nl/agenda/edureizen-2/
CATEGORIES:Rotterdam,Rijswijk
END:VEVENT
BEGIN:VEVENT
DTSTART;VALUE=DATE:20250418
DTEND;VALUE=DATE:20250506
DTSTAMP:20260420T134530
CREATED:20250327T092238Z
LAST-MODIFIED:20250327T092238Z
UID:2873-1744934400-1746489599@www.gsr.nl
SUMMARY:Meivakantie
DESCRIPTION:
URL:https://www.gsr.nl/agenda/meivakantie-3/
CATEGORIES:Rotterdam,Rijswijk
END:VEVENT
BEGIN:VEVENT
DTSTART;VALUE=DATE:20250418
DTEND;VALUE=DATE:20250419
DTSTAMP:20260420T134530
CREATED:20250327T092156Z
LAST-MODIFIED:20250327T092156Z
UID:2871-1744934400-1745020799@www.gsr.nl
SUMMARY:Goede Vrijdag (leerlingen vrij)
DESCRIPTION:
URL:https://www.gsr.nl/agenda/goede-vrijdag-leerlingen-vrij/
CATEGORIES:Rotterdam,Rijswijk
END:VEVENT
BEGIN:VEVENT
DTSTART;VALUE=DATE:20250414
DTEND;VALUE=DATE:20250418
DTSTAMP:20260420T134530
CREATED:20250327T092110Z
LAST-MODIFIED:20250327T092110Z
UID:2869-1744588800-1744934399@www.gsr.nl
SUMMARY:Projectweek
DESCRIPTION:
URL:https://www.gsr.nl/agenda/projectweek/
CATEGORIES:Rijswijk
END:VEVENT
BEGIN:VEVENT
DTSTART;VALUE=DATE:20250414
DTEND;VALUE=DATE:20250418
DTSTAMP:20260420T134530
CREATED:20250327T092032Z
LAST-MODIFIED:20250327T092032Z
UID:2867-1744588800-1744934399@www.gsr.nl
SUMMARY:Inspiratiedagen
DESCRIPTION:
URL:https://www.gsr.nl/agenda/inspiratiedagen/
CATEGORIES:Rotterdam
END:VEVENT
BEGIN:VEVENT
DTSTART;VALUE=DATE:20250409
DTEND;VALUE=DATE:20250412
DTSTAMP:20260420T134530
CREATED:20250327T091933Z
LAST-MODIFIED:20250327T091933Z
UID:2865-1744156800-1744415999@www.gsr.nl
SUMMARY:Grote Avond
DESCRIPTION:De Grote Avond(en) in Zuidplein Theater
URL:https://www.gsr.nl/agenda/grote-avond-3/
CATEGORIES:Rotterdam,Rijswijk
END:VEVENT
BEGIN:VEVENT
DTSTART;VALUE=DATE:20250401
DTEND;VALUE=DATE:20250405
DTSTAMP:20260420T134530
CREATED:20250327T091839Z
LAST-MODIFIED:20250327T091839Z
UID:2863-1743465600-1743811199@www.gsr.nl
SUMMARY:CSPE - bk 4
DESCRIPTION:CSPE\, BK 4 examens
URL:https://www.gsr.nl/agenda/cspe-bk-4/
CATEGORIES:Rotterdam
END:VEVENT
BEGIN:VEVENT
DTSTART;TZID=Europe/Amsterdam:20250326T150000
DTEND;TZID=Europe/Amsterdam:20250326T160000
DTSTAMP:20260420T134530
CREATED:20250318T102943Z
LAST-MODIFIED:20250318T102943Z
UID:2848-1743001200-1743004800@www.gsr.nl
SUMMARY:Extra inloopmoment basisschoolleerlingen
DESCRIPTION:Heb jij onze kennismakingsmomenten gemist en wil je tóch nog een keer de school van binnen zien\, of wil je je laatste vragen stellen\, of een rondleiding krijgen? Dat kan op het allerlaatste kennismakingsmoment van dit jaar. Op woensdagmiddag 26 maart 2025 gaan tussen 15.00-16.00 uur onze deuren open voor jou! Aanmelden is niet nodig\, je kunt zo binnenlopen.
URL:https://www.gsr.nl/agenda/extra-inloopmoment-basisschoolleerlingen/
LOCATION:GSR Rijswijk\, Trompetstraat 5\, Rijswijk\, Nederland
CATEGORIES:Rijswijk
END:VEVENT
BEGIN:VEVENT
DTSTART;TZID=Europe/Amsterdam:20250211T140000
DTEND;TZID=Europe/Amsterdam:20250211T163000
DTSTAMP:20260420T134530
CREATED:20241023T074238Z
LAST-MODIFIED:20250204T180542Z
UID:2457-1739282400-1739291400@www.gsr.nl
SUMMARY:GSR Experience
DESCRIPTION:Zit jij in groep 8 en wil je naar een supertoffe\, christelijke middelbare school? Dan is nú het moment om de school van jouw keuze te vinden. Of de GSR bij je past ontdek je tijdens de GSR Experience. Een open lesmiddag is een middag waarop je twee echte lessen volgt! De middag start om 14.30 uur (inloop 14.00 uur) en duurt tot ongeveer 16.15 uur. Meer informatie vind je hier. 
URL:https://www.gsr.nl/agenda/gsr-experience-3/
LOCATION:GSR Rotterdam\, Almeria-erf 8\, Rotterdam\, Nederland
CATEGORIES:Rotterdam
END:VEVENT
BEGIN:VEVENT
DTSTART;TZID=Europe/Amsterdam:20250124T190000
DTEND;TZID=Europe/Amsterdam:20250124T213000
DTSTAMP:20260420T134530
CREATED:20240912T133237Z
LAST-MODIFIED:20240912T133237Z
UID:2410-1737745200-1737754200@www.gsr.nl
SUMMARY:Open Huis 2025
DESCRIPTION:De leukste manier om de GSR te beleven is tijdens ons Open Huis. Je loopt door de school\, je spreekt docenten en leerlingen aan en je volgt presentaties. Zo ervaar je de manier waarop we samen school zijn. Het Open Huis is bestemd voor jou én je ouders.
URL:https://www.gsr.nl/agenda/open-huis-2025-2/
LOCATION:GSR Rotterdam\, Almeria-erf 8\, Rotterdam\, Nederland
CATEGORIES:Rotterdam
END:VEVENT
BEGIN:VEVENT
DTSTART;TZID=Europe/Amsterdam:20250117T190000
DTEND;TZID=Europe/Amsterdam:20250117T213000
DTSTAMP:20260420T134530
CREATED:20240912T132931Z
LAST-MODIFIED:20240912T132931Z
UID:2407-1737140400-1737149400@www.gsr.nl
SUMMARY:Open Huis 2025
DESCRIPTION:De leukste manier om de GSR te beleven is tijdens ons Open Huis. Je loopt door de school\, je spreekt docenten en leerlingen aan en je volgt presentaties. Zo ervaar je de manier waarop we samen school zijn. Het Open Huis is bestemd voor jou én je ouders.
URL:https://www.gsr.nl/agenda/open-huis-2025/
LOCATION:GSR Rijswijk\, Trompetstraat 5\, Rijswijk\, Nederland
CATEGORIES:Rijswijk
END:VEVENT
BEGIN:VEVENT
DTSTART;TZID=Europe/Amsterdam:20241211T143000
DTEND;TZID=Europe/Amsterdam:20241211T143000
DTSTAMP:20260420T134530
CREATED:20240912T132441Z
LAST-MODIFIED:20240912T132441Z
UID:2403-1733927400-1733927400@www.gsr.nl
SUMMARY:GSR Experience (2)
DESCRIPTION:Zit jij in groep 8 en wil je naar een supertoffe\, christelijke middelbare school? Dan is nú het moment om de school van jouw keuze te vinden. Of de GSR bij je past ontdek je tijdens de GSR Experience. Een open lesmiddag op woensdagmiddag waarop je twee echte lessen volgt! De middag start om 14.30 uur (inloop 14.00 uur) en duurt tot ongeveer 16.15 uur. Meer informatie vind je hier. 
URL:https://www.gsr.nl/agenda/gsr-experience-2-2/
LOCATION:GSR Rijswijk\, Trompetstraat 5\, Rijswijk\, Nederland
CATEGORIES:Rijswijk
END:VEVENT
BEGIN:VEVENT
DTSTART;TZID=Europe/Amsterdam:20241016T143000
DTEND;TZID=Europe/Amsterdam:20241016T163000
DTSTAMP:20260420T134530
CREATED:20240912T123453Z
LAST-MODIFIED:20240912T123759Z
UID:2392-1729089000-1729096200@www.gsr.nl
SUMMARY:GSR Experience (1)
DESCRIPTION:Zit jij in groep 8 en wil je naar een supertoffe\, christelijke middelbare school? Dan is nú het moment om de school van jouw keuze te vinden. Of de GSR bij je past ontdek je tijdens de GSR Experience. Een open lesmiddag op woensdagmiddag waarop je twee echte lessen volgt! De middag start om 14.30 uur (inloop 14.00 uur) en duurt tot ongeveer 16.15 uur. Meer informatie vind je hier. 
URL:https://www.gsr.nl/agenda/gsr-experience-1/
LOCATION:GSR Rotterdam\, Almeria-erf 8\, Rotterdam\, Nederland
CATEGORIES:Rotterdam
END:VEVENT
BEGIN:VEVENT
DTSTART;VALUE=DATE:20240826
DTEND;VALUE=DATE:20240827
DTSTAMP:20260420T134530
CREATED:20240618T074543Z
LAST-MODIFIED:20240618T074543Z
UID:2320-1724630400-1724716799@www.gsr.nl
SUMMARY:Jaaropening 2024-2025
DESCRIPTION:Locatie Rotterdam: Maranathakerk\, Rotterdam\nLocatie Rijswijk: Morgensterkerk\, Rijswijk
URL:https://www.gsr.nl/agenda/jaaropening-2024-2025/
CATEGORIES:Rotterdam,Rijswijk
END:VEVENT
BEGIN:VEVENT
DTSTART;VALUE=DATE:20240715
DTEND;VALUE=DATE:20240824
DTSTAMP:20260420T134530
CREATED:20240618T074439Z
LAST-MODIFIED:20240618T074439Z
UID:2317-1721001600-1724457599@www.gsr.nl
SUMMARY:Zomervakantie
DESCRIPTION:
URL:https://www.gsr.nl/agenda/zomervakantie-2/
CATEGORIES:Rotterdam,Rijswijk
END:VEVENT
BEGIN:VEVENT
DTSTART;VALUE=DATE:20240703
DTEND;VALUE=DATE:20240704
DTSTAMP:20260420T134530
CREATED:20240618T074403Z
LAST-MODIFIED:20240618T074403Z
UID:2315-1719964800-1720051199@www.gsr.nl
SUMMARY:Diplomering
DESCRIPTION:
URL:https://www.gsr.nl/agenda/diplomering-2/
CATEGORIES:Rotterdam
END:VEVENT
BEGIN:VEVENT
DTSTART;TZID=Europe/Amsterdam:20240702T090000
DTEND;TZID=Europe/Amsterdam:20240702T100000
DTSTAMP:20260420T134530
CREATED:20230908T082606Z
LAST-MODIFIED:20230908T082606Z
UID:2044-1719910800-1719914400@www.gsr.nl
SUMMARY:Gebedsbijeenkomst
DESCRIPTION:Op elke eerste dinsdagochtend van de maand (om 09.00 uur) komt er een gebedsgroep bijeen in de gebedsruimte van de GSR Rotterdam . Er wordt gebeden voor de leerlingen\, ouders en personeel van de GSR Rotterdam en Rijswijk en je bent van harte welkom om mee te bidden. Wil je meebidden of een gebedspunt doorgeven? Mail gerust of stop een briefje in de brievenbus bij de gebedsruimte (B1).
URL:https://www.gsr.nl/agenda/gebedsbijeenkomst-10/
LOCATION:GSR Rotterdam\, Almeria-erf 8\, Rotterdam\, Nederland
CATEGORIES:Rotterdam,Rijswijk
END:VEVENT
BEGIN:VEVENT
DTSTART;VALUE=DATE:20240702
DTEND;VALUE=DATE:20240703
DTSTAMP:20260420T134530
CREATED:20240618T074336Z
LAST-MODIFIED:20240618T074336Z
UID:2312-1719878400-1719964799@www.gsr.nl
SUMMARY:Diplomering
DESCRIPTION:
URL:https://www.gsr.nl/agenda/diplomering/
CATEGORIES:Rijswijk
END:VEVENT
BEGIN:VEVENT
DTSTART;VALUE=DATE:20240702
DTEND;VALUE=DATE:20240703
DTSTAMP:20260420T134530
CREATED:20240618T074254Z
LAST-MODIFIED:20240618T074254Z
UID:2310-1719878400-1719964799@www.gsr.nl
SUMMARY:Examenuitslag tweede tijdvak
DESCRIPTION:
URL:https://www.gsr.nl/agenda/examenuitslag-tweede-tijdvak/
CATEGORIES:Rotterdam,Rijswijk
END:VEVENT
BEGIN:VEVENT
DTSTART;TZID=Europe/Amsterdam:20240621T130000
DTEND;TZID=Europe/Amsterdam:20240621T170000
DTSTAMP:20260420T134530
CREATED:20240306T105812Z
LAST-MODIFIED:20240306T105812Z
UID:2274-1718974800-1718989200@www.gsr.nl
SUMMARY:Kennismakingsmiddag brugklassen
DESCRIPTION:
URL:https://www.gsr.nl/agenda/kennismakingsmiddag-brugklassen-2/
CATEGORIES:Rotterdam
END:VEVENT
BEGIN:VEVENT
DTSTART;VALUE=DATE:20240612
DTEND;VALUE=DATE:20240613
DTSTAMP:20260420T134530
CREATED:20240306T105735Z
LAST-MODIFIED:20240306T105735Z
UID:2271-1718150400-1718236799@www.gsr.nl
SUMMARY:Uitslag examen CE1
DESCRIPTION:
URL:https://www.gsr.nl/agenda/uitslag-examen-ce1/
CATEGORIES:Rotterdam,Rijswijk
END:VEVENT
BEGIN:VEVENT
DTSTART;TZID=Europe/Amsterdam:20240604T090000
DTEND;TZID=Europe/Amsterdam:20240604T100000
DTSTAMP:20260420T134530
CREATED:20230908T082546Z
LAST-MODIFIED:20230908T082546Z
UID:2042-1717491600-1717495200@www.gsr.nl
SUMMARY:Gebedsbijeenkomst
DESCRIPTION:Op elke eerste dinsdagochtend van de maand (om 09.00 uur) komt er een gebedsgroep bijeen in de gebedsruimte van de GSR Rotterdam . Er wordt gebeden voor de leerlingen\, ouders en personeel van de GSR Rotterdam en Rijswijk en je bent van harte welkom om mee te bidden. Wil je meebidden of een gebedspunt doorgeven? Mail gerust of stop een briefje in de brievenbus bij de gebedsruimte (B1).
URL:https://www.gsr.nl/agenda/gebedsbijeenkomst-9/
LOCATION:GSR Rotterdam\, Almeria-erf 8\, Rotterdam\, Nederland
CATEGORIES:Rotterdam,Rijswijk
END:VEVENT
BEGIN:VEVENT
DTSTART;TZID=Europe/Amsterdam:20240529T130000
DTEND;TZID=Europe/Amsterdam:20240529T170000
DTSTAMP:20260420T134530
CREATED:20240306T105704Z
LAST-MODIFIED:20240306T105704Z
UID:2268-1716987600-1717002000@www.gsr.nl
SUMMARY:Kennismakingsmiddag brugklassen
DESCRIPTION:
URL:https://www.gsr.nl/agenda/kennismakingsmiddag-brugklassen/
CATEGORIES:Rijswijk
END:VEVENT
BEGIN:VEVENT
DTSTART;TZID=Europe/Amsterdam:20240514T090000
DTEND;TZID=Europe/Amsterdam:20240514T100000
DTSTAMP:20260420T134530
CREATED:20230908T082514Z
LAST-MODIFIED:20230908T082514Z
UID:2040-1715677200-1715680800@www.gsr.nl
SUMMARY:Gebedsbijeenkomst
DESCRIPTION:Op elke eerste dinsdagochtend van de maand (om 09.00 uur) komt er een gebedsgroep bijeen in de gebedsruimte van de GSR Rotterdam . Er wordt gebeden voor de leerlingen\, ouders en personeel van de GSR Rotterdam en Rijswijk en je bent van harte welkom om mee te bidden. Wil je meebidden of een gebedspunt doorgeven? Mail gerust of stop een briefje in de brievenbus bij de gebedsruimte (B1).
URL:https://www.gsr.nl/agenda/gebedsbijeenkomst-8/
LOCATION:GSR Rotterdam\, Almeria-erf 8\, Rotterdam\, Nederland
CATEGORIES:Rotterdam,Rijswijk
END:VEVENT
BEGIN:VEVENT
DTSTART;VALUE=DATE:20240514
DTEND;VALUE=DATE:20240529
DTSTAMP:20260420T134530
CREATED:20240306T105608Z
LAST-MODIFIED:20240306T105608Z
UID:2265-1715644800-1716940799@www.gsr.nl
SUMMARY:Centraal examen 1
DESCRIPTION:
URL:https://www.gsr.nl/agenda/centraal-examen-1/
CATEGORIES:Rotterdam,Rijswijk
END:VEVENT
BEGIN:VEVENT
DTSTART;VALUE=DATE:20240513
DTEND;VALUE=DATE:20240518
DTSTAMP:20260420T134530
CREATED:20240306T105445Z
LAST-MODIFIED:20240306T105445Z
UID:2263-1715558400-1715990399@www.gsr.nl
SUMMARY:Edureizen
DESCRIPTION:
URL:https://www.gsr.nl/agenda/edureizen/
CATEGORIES:Rotterdam
END:VEVENT
BEGIN:VEVENT
DTSTART;VALUE=DATE:20240417
DTEND;VALUE=DATE:20240418
DTSTAMP:20260420T134530
CREATED:20240306T105343Z
LAST-MODIFIED:20240306T105343Z
UID:2260-1713312000-1713398399@www.gsr.nl
SUMMARY:Examenuitje Efteling
DESCRIPTION:
URL:https://www.gsr.nl/agenda/examenuitje-efteling/
CATEGORIES:Rotterdam,Rijswijk
END:VEVENT
END:VCALENDAR