BEGIN:VCALENDAR
VERSION:2.0
PRODID:-//GSR - ECPv6.15.17//NONSGML v1.0//EN
CALSCALE:GREGORIAN
METHOD:PUBLISH
X-WR-CALNAME:GSR
X-ORIGINAL-URL:https://www.gsr.nl
X-WR-CALDESC:Evenementen voor GSR
REFRESH-INTERVAL;VALUE=DURATION:PT1H
X-Robots-Tag:noindex
X-PUBLISHED-TTL:PT1H
BEGIN:VTIMEZONE
TZID:Europe/Amsterdam
BEGIN:DAYLIGHT
TZOFFSETFROM:+0100
TZOFFSETTO:+0200
TZNAME:CEST
DTSTART:20200329T010000
END:DAYLIGHT
BEGIN:STANDARD
TZOFFSETFROM:+0200
TZOFFSETTO:+0100
TZNAME:CET
DTSTART:20201025T010000
END:STANDARD
BEGIN:DAYLIGHT
TZOFFSETFROM:+0100
TZOFFSETTO:+0200
TZNAME:CEST
DTSTART:20210328T010000
END:DAYLIGHT
BEGIN:STANDARD
TZOFFSETFROM:+0200
TZOFFSETTO:+0100
TZNAME:CET
DTSTART:20211031T010000
END:STANDARD
BEGIN:DAYLIGHT
TZOFFSETFROM:+0100
TZOFFSETTO:+0200
TZNAME:CEST
DTSTART:20220327T010000
END:DAYLIGHT
BEGIN:STANDARD
TZOFFSETFROM:+0200
TZOFFSETTO:+0100
TZNAME:CET
DTSTART:20221030T010000
END:STANDARD
BEGIN:DAYLIGHT
TZOFFSETFROM:+0100
TZOFFSETTO:+0200
TZNAME:CEST
DTSTART:20230326T010000
END:DAYLIGHT
BEGIN:STANDARD
TZOFFSETFROM:+0200
TZOFFSETTO:+0100
TZNAME:CET
DTSTART:20231029T010000
END:STANDARD
END:VTIMEZONE
BEGIN:VEVENT
DTSTART;TZID=Europe/Amsterdam:20220822T193000
DTEND;TZID=Europe/Amsterdam:20220822T203000
DTSTAMP:20260420T235328
CREATED:20220705T113050Z
LAST-MODIFIED:20220705T113050Z
UID:1299-1661196600-1661200200@www.gsr.nl
SUMMARY:Jaaropening 2022-2023
DESCRIPTION:
URL:https://www.gsr.nl/agenda/jaaropening-2022-2023/
LOCATION:Morgensterkerk\, Den Haag\, Genemuidenstraat 212\, Den Haag\, Nederland
CATEGORIES:Rijswijk
END:VEVENT
BEGIN:VEVENT
DTSTART;VALUE=DATE:20220714
DTEND;VALUE=DATE:20220715
DTSTAMP:20260420T235328
CREATED:20220308T114859Z
LAST-MODIFIED:20220308T114859Z
UID:1035-1657756800-1657843199@www.gsr.nl
SUMMARY:Uitslag CE tijdvak 3
DESCRIPTION:
URL:https://www.gsr.nl/agenda/uitslag-ce-tijdvak-3/
CATEGORIES:Rotterdam,Rijswijk
END:VEVENT
BEGIN:VEVENT
DTSTART;VALUE=DATE:20220711
DTEND;VALUE=DATE:20220822
DTSTAMP:20260420T235328
CREATED:20220308T115026Z
LAST-MODIFIED:20220308T115026Z
UID:1037-1657497600-1661126399@www.gsr.nl
SUMMARY:Zomervakantie
DESCRIPTION:
URL:https://www.gsr.nl/agenda/zomervakantie/
CATEGORIES:Rotterdam,Rijswijk
END:VEVENT
BEGIN:VEVENT
DTSTART;VALUE=DATE:20220705
DTEND;VALUE=DATE:20220709
DTSTAMP:20260420T235328
CREATED:20220308T114833Z
LAST-MODIFIED:20220308T114833Z
UID:1033-1656979200-1657324799@www.gsr.nl
SUMMARY:CE tijdvak 3 (herexamens)
DESCRIPTION:
URL:https://www.gsr.nl/agenda/ce-tijdvak-3-herexamens/
CATEGORIES:Rotterdam,Rijswijk
END:VEVENT
BEGIN:VEVENT
DTSTART;VALUE=DATE:20220701
DTEND;VALUE=DATE:20220702
DTSTAMP:20260420T235328
CREATED:20220308T114753Z
LAST-MODIFIED:20220308T114753Z
UID:1031-1656633600-1656719999@www.gsr.nl
SUMMARY:Uitslag CE 2
DESCRIPTION:
URL:https://www.gsr.nl/agenda/uitslag-ce-2/
CATEGORIES:Rotterdam,Rijswijk
END:VEVENT
BEGIN:VEVENT
DTSTART;VALUE=DATE:20220615
DTEND;VALUE=DATE:20220616
DTSTAMP:20260420T235328
CREATED:20220308T114726Z
LAST-MODIFIED:20220308T114726Z
UID:1029-1655251200-1655337599@www.gsr.nl
SUMMARY:Uitslag CE tijdvak 1 (BK4)
DESCRIPTION:
URL:https://www.gsr.nl/agenda/uitslag-ce-tijdvak-1-bk4/
CATEGORIES:Rotterdam,Rijswijk
END:VEVENT
BEGIN:VEVENT
DTSTART;VALUE=DATE:20220613
DTEND;VALUE=DATE:20220625
DTSTAMP:20260420T235328
CREATED:20211214T144621Z
LAST-MODIFIED:20220308T114650Z
UID:644-1655078400-1656115199@www.gsr.nl
SUMMARY:Centraal Examen tijdvak 2
DESCRIPTION:
URL:https://www.gsr.nl/agenda/centraal-examen-tijdvak-2/
CATEGORIES:Rotterdam,Rijswijk
END:VEVENT
BEGIN:VEVENT
DTSTART;VALUE=DATE:20220609
DTEND;VALUE=DATE:20220610
DTSTAMP:20260420T235328
CREATED:20220308T114557Z
LAST-MODIFIED:20220308T114557Z
UID:1027-1654732800-1654819199@www.gsr.nl
SUMMARY:Uitslag CE tijdvak 1 (T4\, H5\, V6)
DESCRIPTION:
URL:https://www.gsr.nl/agenda/uitslag-ce-tijdvak-1-t4-h5-v6/
CATEGORIES:Rotterdam,Rijswijk
END:VEVENT
BEGIN:VEVENT
DTSTART;VALUE=DATE:20220512
DTEND;VALUE=DATE:20220526
DTSTAMP:20260420T235328
CREATED:20211214T144501Z
LAST-MODIFIED:20211214T144501Z
UID:642-1652313600-1653523199@www.gsr.nl
SUMMARY:Centraal Examen tijdvak 1
DESCRIPTION:
URL:https://www.gsr.nl/agenda/centraal-examen-tijdvak-1/
CATEGORIES:Rotterdam,Rijswijk
END:VEVENT
BEGIN:VEVENT
DTSTART;VALUE=DATE:20220425
DTEND;VALUE=DATE:20220507
DTSTAMP:20260420T235328
CREATED:20211214T144351Z
LAST-MODIFIED:20220308T114231Z
UID:640-1650844800-1651881599@www.gsr.nl
SUMMARY:Meivakantie
DESCRIPTION:
URL:https://www.gsr.nl/agenda/meivakantie/
CATEGORIES:Rotterdam,Rijswijk
END:VEVENT
BEGIN:VEVENT
DTSTART;TZID=Europe/Amsterdam:20220420T193000
DTEND;TZID=Europe/Amsterdam:20220420T203000
DTSTAMP:20260420T235328
CREATED:20220308T114238Z
LAST-MODIFIED:20220308T114250Z
UID:1020-1650483000-1650486600@www.gsr.nl
SUMMARY:Ouderavond social media & gaming
DESCRIPTION:Op woensdag 20 april organiseren we voor voor alle ouders een ouderavond rondom het thema ‘Social media en Gaming’. Hoe kunnen wij hier als ouders en school het beste mee omgaan? En kunnen onze kernwaarden ‘Geloof delen’ en ‘Liefde’ ons hierbij helpen? Tijdens de avond zal Leenard Kanselaar (betrokken bij Youth for Christ en initiatiefnemer van www.onlineopgroeien.nl) een inleiding verzorgen\, waarna we met elkaar het gesprek aangaan. Ook zullen de externe vertrouwenspersonen van de GSR aanwezig zijn en een toelichting geven op hun werk. De ouderavond vindt plaats in het schoolgebouw te Rotterdam\, begint om 19:30 uur en duurt tot 21:00 uur. Daarna is er nog gelegenheid om na te praten. \nAanmelden kan via: rotterdam@gsr.nl of rijswijk@gsr.nl. Heeft u vragen over dit onderwerp\, dan kunt u die ook vooraf stellen.
URL:https://www.gsr.nl/agenda/ouderavond-social-media-gaming/
CATEGORIES:Rotterdam,Rijswijk
END:VEVENT
BEGIN:VEVENT
DTSTART;TZID=Europe/Amsterdam:20220209T133000
DTEND;TZID=Europe/Amsterdam:20220209T153000
DTSTAMP:20260420T235328
CREATED:20211217T104035Z
LAST-MODIFIED:20211221T104847Z
UID:664-1644413400-1644420600@www.gsr.nl
SUMMARY:Open Lesmiddag
DESCRIPTION:Kom jij een middagje de GSR ontdekken? Meld je dan nu aan voor één van de Open Lesmiddagen in Rijswijk. \nWe weten nu nog niet precies welke coronamaatregelen er gelden tijdens ons tijdens deze middagen\, maar wil je dat wij jou op de hoogte houden? Meld je aan en zet het vast in je agenda. \nAanmelden kan via DEZE LINK.
URL:https://www.gsr.nl/agenda/open-lesmiddag-3/
CATEGORIES:Rijswijk
END:VEVENT
BEGIN:VEVENT
DTSTART;TZID=Europe/Amsterdam:20220128T193000
DTEND;TZID=Europe/Amsterdam:20220128T203000
DTSTAMP:20260420T235328
CREATED:20211130T162625Z
LAST-MODIFIED:20220118T102609Z
UID:534-1643398200-1643401800@www.gsr.nl
SUMMARY:Open huis
DESCRIPTION:Op vrijdagavond 28 januari 2022 is ons online Open Huis. Daar kun jij beginnen met de ‘Reis van je Leven!’. Wil jij naar een toffe christelijke middelbare school? Kom dan een virtueel kijkje nemen bij ons in Rijswijk. \nAanmelden kan via DEZE LINK.
URL:https://www.gsr.nl/agenda/open-huis/
CATEGORIES:Rijswijk
END:VEVENT
BEGIN:VEVENT
DTSTART;VALUE=DATE:20211224
DTEND;VALUE=DATE:20220110
DTSTAMP:20260420T235328
CREATED:20211214T143835Z
LAST-MODIFIED:20211221T102428Z
UID:631-1640304000-1641772799@www.gsr.nl
SUMMARY:Kerstvakantie
DESCRIPTION:
URL:https://www.gsr.nl/agenda/kerstvakantie/
CATEGORIES:Rotterdam,Rijswijk
END:VEVENT
BEGIN:VEVENT
DTSTART;TZID=Europe/Amsterdam:20211215T193000
DTEND;TZID=Europe/Amsterdam:20211215T203000
DTSTAMP:20260420T235328
CREATED:20211130T162411Z
LAST-MODIFIED:20211208T131516Z
UID:532-1639596600-1639600200@www.gsr.nl
SUMMARY:Informatiebijeenkomst ouders groep 8’ers (online)
DESCRIPTION:We hebben verschillende kennismakingsmomenten\, voor u als ouder/verzorger\, maar ook voor uw kind. Op woensdagavond 15 december 2021 van 19.30-20.30 uur is er een voorlichtingsavond voor u als ouder/verzorger. Tijdens deze avond kunt u alvast kennismaken met onze school. We vertellen u graag meer over ons onderwijs\, de identiteit van de school\, mentoraat en de zorg die wij bieden aan onze leerlingen. \nAanmelden \nAanmelden voor deze online avond kan via deze link.
URL:https://www.gsr.nl/agenda/informatiebijeenkomst-ouders-groep-8ers-rijswijk/
CATEGORIES:Rijswijk
END:VEVENT
END:VCALENDAR