BEGIN:VCALENDAR
VERSION:2.0
PRODID:-//GSR - ECPv6.15.17//NONSGML v1.0//EN
CALSCALE:GREGORIAN
METHOD:PUBLISH
X-ORIGINAL-URL:https://www.gsr.nl
X-WR-CALDESC:Evenementen voor GSR
REFRESH-INTERVAL;VALUE=DURATION:PT1H
X-Robots-Tag:noindex
X-PUBLISHED-TTL:PT1H
BEGIN:VTIMEZONE
TZID:Europe/Amsterdam
BEGIN:DAYLIGHT
TZOFFSETFROM:+0100
TZOFFSETTO:+0200
TZNAME:CEST
DTSTART:20240331T010000
END:DAYLIGHT
BEGIN:STANDARD
TZOFFSETFROM:+0200
TZOFFSETTO:+0100
TZNAME:CET
DTSTART:20241027T010000
END:STANDARD
BEGIN:DAYLIGHT
TZOFFSETFROM:+0100
TZOFFSETTO:+0200
TZNAME:CEST
DTSTART:20250330T010000
END:DAYLIGHT
BEGIN:STANDARD
TZOFFSETFROM:+0200
TZOFFSETTO:+0100
TZNAME:CET
DTSTART:20251026T010000
END:STANDARD
BEGIN:DAYLIGHT
TZOFFSETFROM:+0100
TZOFFSETTO:+0200
TZNAME:CEST
DTSTART:20260329T010000
END:DAYLIGHT
BEGIN:STANDARD
TZOFFSETFROM:+0200
TZOFFSETTO:+0100
TZNAME:CET
DTSTART:20261025T010000
END:STANDARD
BEGIN:DAYLIGHT
TZOFFSETFROM:+0100
TZOFFSETTO:+0200
TZNAME:CEST
DTSTART:20270328T010000
END:DAYLIGHT
BEGIN:STANDARD
TZOFFSETFROM:+0200
TZOFFSETTO:+0100
TZNAME:CET
DTSTART:20271031T010000
END:STANDARD
END:VTIMEZONE
BEGIN:VEVENT
DTSTART;TZID=Europe/Amsterdam:20251029T140000
DTEND;TZID=Europe/Amsterdam:20251029T170000
DTSTAMP:20260422T001000
CREATED:20250925T175229Z
LAST-MODIFIED:20250925T175229Z
UID:3117-1761746400-1761757200@www.gsr.nl
SUMMARY:GSR Experience (1)
DESCRIPTION:
URL:https://www.gsr.nl/agenda/gsr-experience-1-4/
CATEGORIES:Rijswijk
END:VEVENT
BEGIN:VEVENT
DTSTART;TZID=Europe/Amsterdam:20251029T193000
DTEND;TZID=Europe/Amsterdam:20251029T213000
DTSTAMP:20260422T001000
CREATED:20250925T175758Z
LAST-MODIFIED:20251003T144157Z
UID:3125-1761766200-1761773400@www.gsr.nl
SUMMARY:Ouderavond & ALV
DESCRIPTION:GSR OUDERAVOND – LEDENVERGADERING\nVOOR OUDERS/VERZORGERS EN MEDEWERKERS \n\nHoe komen we met ons kind in verbinding? Hoe begeleiden we ons kind in de vorming van hun identiteit\, in relaties en seksualiteit? Hoe maken we ze weerbaar? Matthijs Voskuil is jongerenwerker en kent de leefwereld van onze jongeren van binnenuit. Hij neemt ons op een ontspannen manier mee om die leefwereld te leren kennen en deelt diverse ervaringen.\nZo ontdekken we als ouders en medewerkers wat nodig is om jongeren weerbaar te maken in deze tijd en samenleving.\n\n\nProgramma\n19.15 uur Inloop met koffie / thee\n19.30-21.30 uur Ouderavond\n\n\nAansluitend is er gelegenheid om na te praten onder het genot van een drankje. \n\n\nEen avond voor ouders/verzorgers én medewerkers van de GSR Rotterdam & Rijswijk. \nMeld je aan via het inschrijfformulier.
URL:https://www.gsr.nl/agenda/ouderavond-alv/
CATEGORIES:Rotterdam,Rijswijk
END:VEVENT
BEGIN:VEVENT
DTSTART;TZID=Europe/Amsterdam:20251210T140000
DTEND;TZID=Europe/Amsterdam:20251210T170000
DTSTAMP:20260422T001000
CREATED:20250925T175314Z
LAST-MODIFIED:20250925T175314Z
UID:3119-1765375200-1765386000@www.gsr.nl
SUMMARY:GSR Experience (2)
DESCRIPTION:
URL:https://www.gsr.nl/agenda/gsr-experience-2-4/
CATEGORIES:Rijswijk
END:VEVENT
BEGIN:VEVENT
DTSTART;TZID=Europe/Amsterdam:20260123T190000
DTEND;TZID=Europe/Amsterdam:20260123T213000
DTSTAMP:20260422T001000
CREATED:20250925T180436Z
LAST-MODIFIED:20250925T180436Z
UID:3129-1769194800-1769203800@www.gsr.nl
SUMMARY:Open Avond
DESCRIPTION:
URL:https://www.gsr.nl/agenda/open-avond/
CATEGORIES:Rijswijk
END:VEVENT
BEGIN:VEVENT
DTSTART;TZID=Europe/Amsterdam:20260225T190000
DTEND;TZID=Europe/Amsterdam:20260225T213000
DTSTAMP:20260422T001000
CREATED:20250925T180740Z
LAST-MODIFIED:20250925T180740Z
UID:3133-1772046000-1772055000@www.gsr.nl
SUMMARY:Informatiebijeenkomst ouders groep 8
DESCRIPTION:
URL:https://www.gsr.nl/agenda/informatiebijeenkomst-ouders-groep-8-2/
CATEGORIES:Rijswijk
END:VEVENT
BEGIN:VEVENT
DTSTART;TZID=Europe/Amsterdam:20260304T140000
DTEND;TZID=Europe/Amsterdam:20260304T170000
DTSTAMP:20260422T001000
CREATED:20250925T175431Z
LAST-MODIFIED:20250925T175431Z
UID:3121-1772632800-1772643600@www.gsr.nl
SUMMARY:GSR Experience (3)
DESCRIPTION:
URL:https://www.gsr.nl/agenda/gsr-experience-3-3/
CATEGORIES:Rijswijk
END:VEVENT
BEGIN:VEVENT
DTSTART;VALUE=DATE:20260409
DTEND;VALUE=DATE:20260411
DTSTAMP:20260422T001000
CREATED:20250925T180229Z
LAST-MODIFIED:20260224T134936Z
UID:3127-1775692800-1775865599@www.gsr.nl
SUMMARY:Grote Avond
DESCRIPTION:
URL:https://www.gsr.nl/agenda/grote-avond-4/
CATEGORIES:Rotterdam,Rijswijk
END:VEVENT
BEGIN:VEVENT
DTSTART;VALUE=DATE:20260504
DTEND;VALUE=DATE:20260509
DTSTAMP:20260422T001000
CREATED:20260224T135235Z
LAST-MODIFIED:20260224T135235Z
UID:3275-1777852800-1778284799@www.gsr.nl
SUMMARY:Edureizen
DESCRIPTION:
URL:https://www.gsr.nl/agenda/edureizen-3/
CATEGORIES:Rotterdam,Rijswijk
END:VEVENT
BEGIN:VEVENT
DTSTART;VALUE=DATE:20260529
DTEND;VALUE=DATE:20260530
DTSTAMP:20260422T001000
CREATED:20260224T135331Z
LAST-MODIFIED:20260224T135331Z
UID:3278-1780012800-1780099199@www.gsr.nl
SUMMARY:Aanbiddingsavond
DESCRIPTION:
URL:https://www.gsr.nl/agenda/aanbiddingsavond-2/
CATEGORIES:Rotterdam,Rijswijk
END:VEVENT
BEGIN:VEVENT
DTSTART;VALUE=DATE:20260611
DTEND;VALUE=DATE:20260612
DTSTAMP:20260422T001000
CREATED:20260224T135411Z
LAST-MODIFIED:20260224T135411Z
UID:3280-1781136000-1781222399@www.gsr.nl
SUMMARY:Examenuitslag CE-1
DESCRIPTION:
URL:https://www.gsr.nl/agenda/examenuitslag-ce-1/
CATEGORIES:Rotterdam,Rijswijk
END:VEVENT
END:VCALENDAR