BEGIN:VCALENDAR
VERSION:2.0
PRODID:-//GSR - ECPv6.15.17//NONSGML v1.0//EN
CALSCALE:GREGORIAN
METHOD:PUBLISH
X-ORIGINAL-URL:https://www.gsr.nl
X-WR-CALDESC:Evenementen voor GSR
REFRESH-INTERVAL;VALUE=DURATION:PT1H
X-Robots-Tag:noindex
X-PUBLISHED-TTL:PT1H
BEGIN:VTIMEZONE
TZID:Europe/Amsterdam
BEGIN:DAYLIGHT
TZOFFSETFROM:+0100
TZOFFSETTO:+0200
TZNAME:CEST
DTSTART:20230326T010000
END:DAYLIGHT
BEGIN:STANDARD
TZOFFSETFROM:+0200
TZOFFSETTO:+0100
TZNAME:CET
DTSTART:20231029T010000
END:STANDARD
BEGIN:DAYLIGHT
TZOFFSETFROM:+0100
TZOFFSETTO:+0200
TZNAME:CEST
DTSTART:20240331T010000
END:DAYLIGHT
BEGIN:STANDARD
TZOFFSETFROM:+0200
TZOFFSETTO:+0100
TZNAME:CET
DTSTART:20241027T010000
END:STANDARD
BEGIN:DAYLIGHT
TZOFFSETFROM:+0100
TZOFFSETTO:+0200
TZNAME:CEST
DTSTART:20250330T010000
END:DAYLIGHT
BEGIN:STANDARD
TZOFFSETFROM:+0200
TZOFFSETTO:+0100
TZNAME:CET
DTSTART:20251026T010000
END:STANDARD
END:VTIMEZONE
BEGIN:VEVENT
DTSTART;TZID=Europe/Amsterdam:20240131T193000
DTEND;TZID=Europe/Amsterdam:20240131T213000
DTSTAMP:20260422T073150
CREATED:20230815T123317Z
LAST-MODIFIED:20231108T113516Z
UID:1968-1706729400-1706736600@www.gsr.nl
SUMMARY:Voorlichtingsavond ouders/verzorgers groep 8
DESCRIPTION:Natuurlijk wil je als ouder(s) een kijkje nemen op de toekomstige school van je dochter of zoon. Daarom is er jaarlijks een informatiebijeenkomst. Deze vindt plaats in de avonduren en geeft in kort bestek informatie over onze school. Denk hierbij aan o.a. onze identiteit\, ons (flex)onderwijs\, mentoraat en leerlingbegeleiding. Meer informatie over de bijeenkomst en aanmelden kan op deze pagina.
URL:https://www.gsr.nl/agenda/voorlichtingsavond-ouders-rw1-groep-8/
LOCATION:GSR Rijswijk\, Trompetstraat 5\, Rijswijk\, Nederland
CATEGORIES:Rijswijk
END:VEVENT
END:VCALENDAR