BEGIN:VCALENDAR
VERSION:2.0
PRODID:-//GSR - ECPv6.15.17//NONSGML v1.0//EN
CALSCALE:GREGORIAN
METHOD:PUBLISH
X-WR-CALNAME:GSR
X-ORIGINAL-URL:https://www.gsr.nl
X-WR-CALDESC:Evenementen voor GSR
REFRESH-INTERVAL;VALUE=DURATION:PT1H
X-Robots-Tag:noindex
X-PUBLISHED-TTL:PT1H
BEGIN:VTIMEZONE
TZID:Europe/Amsterdam
BEGIN:DAYLIGHT
TZOFFSETFROM:+0100
TZOFFSETTO:+0200
TZNAME:CEST
DTSTART:20220327T010000
END:DAYLIGHT
BEGIN:STANDARD
TZOFFSETFROM:+0200
TZOFFSETTO:+0100
TZNAME:CET
DTSTART:20221030T010000
END:STANDARD
BEGIN:DAYLIGHT
TZOFFSETFROM:+0100
TZOFFSETTO:+0200
TZNAME:CEST
DTSTART:20230326T010000
END:DAYLIGHT
BEGIN:STANDARD
TZOFFSETFROM:+0200
TZOFFSETTO:+0100
TZNAME:CET
DTSTART:20231029T010000
END:STANDARD
BEGIN:DAYLIGHT
TZOFFSETFROM:+0100
TZOFFSETTO:+0200
TZNAME:CEST
DTSTART:20240331T010000
END:DAYLIGHT
BEGIN:STANDARD
TZOFFSETFROM:+0200
TZOFFSETTO:+0100
TZNAME:CET
DTSTART:20241027T010000
END:STANDARD
END:VTIMEZONE
BEGIN:VEVENT
DTSTART;TZID=Europe/Amsterdam:20231025T190000
DTEND;TZID=Europe/Amsterdam:20231025T213000
DTSTAMP:20260421T234754
CREATED:20231004T104115Z
LAST-MODIFIED:20231004T104152Z
UID:2074-1698260400-1698269400@www.gsr.nl
SUMMARY:Identiteitsavond 'Hoe delen wij het geloof?'
DESCRIPTION: Hoe geven we het geloof door aan de nieuwe generatie? Niet voor niets is ‘Geloof delen’ één van de kernwaarden van de GSR\, maar hoe geven we dat nu handen en voeten? En hoe kunnen we daarin als ouders en school elkaar versterken?  \nAnne van Olst\, directeur van de Evangelische Hogeschool in Amersfoort\, komt met ons praten naar aanleiding van zijn nieuwste boek: ‘Geloven doe je zo’.  \n Programma 25 oktober  \n19.15 uur inloop met koffie/thee  \n19.45 uur inleiding op het thema: ‘Geloven doe je zo’\npauze\nmet elkaar in gesprek  \n21.15 uur afsluiting  \nNa afloop is er voor de leden van de schoolvereniging een korte ledenvergadering en anderen worden uitgenodigd om na te praten onder het genot van een kop koffie.  \nLocatie: GSR Rotterdam\, Almeria-erf 8 te Rotterdam.  \n  \n Een avond voor ouders én medewerkers van de GSR. Meld je uiterlijk 11 oktober aan via het inschrijfformulier. 
URL:https://www.gsr.nl/agenda/identiteitsavond-hoe-delen-wij-het-geloof/
LOCATION:GSR Rotterdam\, Almeria-erf 8\, Rotterdam\, Nederland
CATEGORIES:Rotterdam,Rijswijk
END:VEVENT
END:VCALENDAR