BEGIN:VCALENDAR
VERSION:2.0
PRODID:-//GSR - ECPv6.15.17//NONSGML v1.0//EN
CALSCALE:GREGORIAN
METHOD:PUBLISH
X-ORIGINAL-URL:https://www.gsr.nl
X-WR-CALDESC:Evenementen voor GSR
REFRESH-INTERVAL;VALUE=DURATION:PT1H
X-Robots-Tag:noindex
X-PUBLISHED-TTL:PT1H
BEGIN:VTIMEZONE
TZID:Europe/Amsterdam
BEGIN:DAYLIGHT
TZOFFSETFROM:+0100
TZOFFSETTO:+0200
TZNAME:CEST
DTSTART:20210328T010000
END:DAYLIGHT
BEGIN:STANDARD
TZOFFSETFROM:+0200
TZOFFSETTO:+0100
TZNAME:CET
DTSTART:20211031T010000
END:STANDARD
BEGIN:DAYLIGHT
TZOFFSETFROM:+0100
TZOFFSETTO:+0200
TZNAME:CEST
DTSTART:20220327T010000
END:DAYLIGHT
BEGIN:STANDARD
TZOFFSETFROM:+0200
TZOFFSETTO:+0100
TZNAME:CET
DTSTART:20221030T010000
END:STANDARD
BEGIN:DAYLIGHT
TZOFFSETFROM:+0100
TZOFFSETTO:+0200
TZNAME:CEST
DTSTART:20230326T010000
END:DAYLIGHT
BEGIN:STANDARD
TZOFFSETFROM:+0200
TZOFFSETTO:+0100
TZNAME:CET
DTSTART:20231029T010000
END:STANDARD
END:VTIMEZONE
BEGIN:VEVENT
DTSTART;TZID=Europe/Amsterdam:20220209T133000
DTEND;TZID=Europe/Amsterdam:20220209T153000
DTSTAMP:20260422T122045
CREATED:20211217T104035Z
LAST-MODIFIED:20211221T104847Z
UID:664-1644413400-1644420600@www.gsr.nl
SUMMARY:Open Lesmiddag
DESCRIPTION:Kom jij een middagje de GSR ontdekken? Meld je dan nu aan voor één van de Open Lesmiddagen in Rijswijk. \nWe weten nu nog niet precies welke coronamaatregelen er gelden tijdens ons tijdens deze middagen\, maar wil je dat wij jou op de hoogte houden? Meld je aan en zet het vast in je agenda. \nAanmelden kan via DEZE LINK.
URL:https://www.gsr.nl/agenda/open-lesmiddag-3/
CATEGORIES:Rijswijk
END:VEVENT
END:VCALENDAR