BEGIN:VCALENDAR
VERSION:2.0
PRODID:-//GSR - ECPv6.15.17//NONSGML v1.0//EN
CALSCALE:GREGORIAN
METHOD:PUBLISH
X-WR-CALNAME:GSR
X-ORIGINAL-URL:https://www.gsr.nl
X-WR-CALDESC:Evenementen voor GSR
REFRESH-INTERVAL;VALUE=DURATION:PT1H
X-Robots-Tag:noindex
X-PUBLISHED-TTL:PT1H
BEGIN:VTIMEZONE
TZID:Europe/Amsterdam
BEGIN:DAYLIGHT
TZOFFSETFROM:+0100
TZOFFSETTO:+0200
TZNAME:CEST
DTSTART:20230326T010000
END:DAYLIGHT
BEGIN:STANDARD
TZOFFSETFROM:+0200
TZOFFSETTO:+0100
TZNAME:CET
DTSTART:20231029T010000
END:STANDARD
BEGIN:DAYLIGHT
TZOFFSETFROM:+0100
TZOFFSETTO:+0200
TZNAME:CEST
DTSTART:20240331T010000
END:DAYLIGHT
BEGIN:STANDARD
TZOFFSETFROM:+0200
TZOFFSETTO:+0100
TZNAME:CET
DTSTART:20241027T010000
END:STANDARD
BEGIN:DAYLIGHT
TZOFFSETFROM:+0100
TZOFFSETTO:+0200
TZNAME:CEST
DTSTART:20250330T010000
END:DAYLIGHT
BEGIN:STANDARD
TZOFFSETFROM:+0200
TZOFFSETTO:+0100
TZNAME:CET
DTSTART:20251026T010000
END:STANDARD
END:VTIMEZONE
BEGIN:VEVENT
DTSTART;TZID=Europe/Amsterdam:20240109T090000
DTEND;TZID=Europe/Amsterdam:20240109T100000
DTSTAMP:20260422T055623
CREATED:20230908T082320Z
LAST-MODIFIED:20230908T082320Z
UID:2032-1704790800-1704794400@www.gsr.nl
SUMMARY:Gebedsbijeenkomst
DESCRIPTION:Op elke eerste dinsdagochtend van de maand (om 09.00 uur) komt er een gebedsgroep bijeen in de gebedsruimte van de GSR Rotterdam . Er wordt gebeden voor de leerlingen\, ouders en personeel van de GSR Rotterdam en Rijswijk en je bent van harte welkom om mee te bidden. Wil je meebidden of een gebedspunt doorgeven? Mail gerust of stop een briefje in de brievenbus bij de gebedsruimte (B1).
URL:https://www.gsr.nl/agenda/gebedsbijeenkomst-4/
LOCATION:GSR Rotterdam\, Almeria-erf 8\, Rotterdam\, Nederland
CATEGORIES:Rotterdam,Rijswijk
END:VEVENT
BEGIN:VEVENT
DTSTART;TZID=Europe/Amsterdam:20240119T190000
DTEND;TZID=Europe/Amsterdam:20240119T213000
DTSTAMP:20260422T055623
CREATED:20230815T123136Z
LAST-MODIFIED:20230815T123548Z
UID:1965-1705690800-1705699800@www.gsr.nl
SUMMARY:Open Huis 2024
DESCRIPTION:De leukste manier om de GSR te beleven is tijdens ons Open Huis. Je loopt door de school\, je spreekt docenten en leerlingen aan en je volgt presentaties. Zo ervaar je de manier waarop we samen school zijn. Het Open Huis is bestemd voor jou én je ouders.
URL:https://www.gsr.nl/agenda/open-huis-rw-2024/
LOCATION:GSR Rijswijk\, Trompetstraat 5\, Rijswijk\, Nederland
CATEGORIES:Rijswijk
END:VEVENT
BEGIN:VEVENT
DTSTART;TZID=Europe/Amsterdam:20240131T193000
DTEND;TZID=Europe/Amsterdam:20240131T213000
DTSTAMP:20260422T055623
CREATED:20230815T123317Z
LAST-MODIFIED:20231108T113516Z
UID:1968-1706729400-1706736600@www.gsr.nl
SUMMARY:Voorlichtingsavond ouders/verzorgers groep 8
DESCRIPTION:Natuurlijk wil je als ouder(s) een kijkje nemen op de toekomstige school van je dochter of zoon. Daarom is er jaarlijks een informatiebijeenkomst. Deze vindt plaats in de avonduren en geeft in kort bestek informatie over onze school. Denk hierbij aan o.a. onze identiteit\, ons (flex)onderwijs\, mentoraat en leerlingbegeleiding. Meer informatie over de bijeenkomst en aanmelden kan op deze pagina.
URL:https://www.gsr.nl/agenda/voorlichtingsavond-ouders-rw1-groep-8/
LOCATION:GSR Rijswijk\, Trompetstraat 5\, Rijswijk\, Nederland
CATEGORIES:Rijswijk
END:VEVENT
END:VCALENDAR