BEGIN:VCALENDAR
VERSION:2.0
PRODID:-//GSR - ECPv6.15.17//NONSGML v1.0//EN
CALSCALE:GREGORIAN
METHOD:PUBLISH
X-ORIGINAL-URL:https://www.gsr.nl
X-WR-CALDESC:Evenementen voor GSR
REFRESH-INTERVAL;VALUE=DURATION:PT1H
X-Robots-Tag:noindex
X-PUBLISHED-TTL:PT1H
BEGIN:VTIMEZONE
TZID:Europe/Amsterdam
BEGIN:DAYLIGHT
TZOFFSETFROM:+0100
TZOFFSETTO:+0200
TZNAME:CEST
DTSTART:20220327T010000
END:DAYLIGHT
BEGIN:STANDARD
TZOFFSETFROM:+0200
TZOFFSETTO:+0100
TZNAME:CET
DTSTART:20221030T010000
END:STANDARD
BEGIN:DAYLIGHT
TZOFFSETFROM:+0100
TZOFFSETTO:+0200
TZNAME:CEST
DTSTART:20230326T010000
END:DAYLIGHT
BEGIN:STANDARD
TZOFFSETFROM:+0200
TZOFFSETTO:+0100
TZNAME:CET
DTSTART:20231029T010000
END:STANDARD
BEGIN:DAYLIGHT
TZOFFSETFROM:+0100
TZOFFSETTO:+0200
TZNAME:CEST
DTSTART:20240331T010000
END:DAYLIGHT
BEGIN:STANDARD
TZOFFSETFROM:+0200
TZOFFSETTO:+0100
TZNAME:CET
DTSTART:20241027T010000
END:STANDARD
END:VTIMEZONE
BEGIN:VEVENT
DTSTART;TZID=Europe/Amsterdam:20231101T143000
DTEND;TZID=Europe/Amsterdam:20231101T163000
DTSTAMP:20260422T012015
CREATED:20230815T122910Z
LAST-MODIFIED:20230815T122910Z
UID:1958-1698849000-1698856200@www.gsr.nl
SUMMARY:GSR Experience (1)
DESCRIPTION:Zit jij in groep 8 en wil je naar een supertoffe\, christelijke middelbare school? Dan is nú het moment om de school van jouw keuze te vinden. Of de GSR bij je past ontdek je tijdens de GSR Experience. Een open lesmiddag op woensdagmiddag waarop je twee echte lessen volgt! De middag start om 14.30 uur (inloop 14.00 uur) en duurt tot ongeveer 16.15 uur. Meer informatie vind je hier. 
URL:https://www.gsr.nl/agenda/exp-1-rw-23-24/
LOCATION:GSR Rijswijk\, Trompetstraat 5\, Rijswijk\, Nederland
CATEGORIES:Rijswijk
END:VEVENT
BEGIN:VEVENT
DTSTART;TZID=Europe/Amsterdam:20231107T090000
DTEND;TZID=Europe/Amsterdam:20231107T100000
DTSTAMP:20260422T012015
CREATED:20230908T082215Z
LAST-MODIFIED:20230908T082215Z
UID:2028-1699347600-1699351200@www.gsr.nl
SUMMARY:Gebedsbijeenkomst
DESCRIPTION:Op elke eerste dinsdagochtend van de maand (om 09.00 uur) komt er een gebedsgroep bijeen in de gebedsruimte van de GSR Rotterdam . Er wordt gebeden voor de leerlingen\, ouders en personeel van de GSR Rotterdam en Rijswijk en je bent van harte welkom om mee te bidden. Wil je meebidden of een gebedspunt doorgeven? Mail gerust of stop een briefje in de brievenbus bij de gebedsruimte (B1).
URL:https://www.gsr.nl/agenda/gebedsbijeenkomst-2/
LOCATION:GSR Rotterdam\, Almeria-erf 8\, Rotterdam\, Nederland
CATEGORIES:Rotterdam,Rijswijk
END:VEVENT
END:VCALENDAR