BEGIN:VCALENDAR
VERSION:2.0
PRODID:-//GSR - ECPv6.15.17//NONSGML v1.0//EN
CALSCALE:GREGORIAN
METHOD:PUBLISH
X-ORIGINAL-URL:https://www.gsr.nl
X-WR-CALDESC:Evenementen voor GSR
REFRESH-INTERVAL;VALUE=DURATION:PT1H
X-Robots-Tag:noindex
X-PUBLISHED-TTL:PT1H
BEGIN:VTIMEZONE
TZID:Europe/Amsterdam
BEGIN:DAYLIGHT
TZOFFSETFROM:+0100
TZOFFSETTO:+0200
TZNAME:CEST
DTSTART:20220327T010000
END:DAYLIGHT
BEGIN:STANDARD
TZOFFSETFROM:+0200
TZOFFSETTO:+0100
TZNAME:CET
DTSTART:20221030T010000
END:STANDARD
BEGIN:DAYLIGHT
TZOFFSETFROM:+0100
TZOFFSETTO:+0200
TZNAME:CEST
DTSTART:20230326T010000
END:DAYLIGHT
BEGIN:STANDARD
TZOFFSETFROM:+0200
TZOFFSETTO:+0100
TZNAME:CET
DTSTART:20231029T010000
END:STANDARD
BEGIN:DAYLIGHT
TZOFFSETFROM:+0100
TZOFFSETTO:+0200
TZNAME:CEST
DTSTART:20240331T010000
END:DAYLIGHT
BEGIN:STANDARD
TZOFFSETFROM:+0200
TZOFFSETTO:+0100
TZNAME:CET
DTSTART:20241027T010000
END:STANDARD
END:VTIMEZONE
BEGIN:VEVENT
DTSTART;VALUE=DATE:20230614
DTEND;VALUE=DATE:20230615
DTSTAMP:20260421T154654
CREATED:20220708T074738Z
LAST-MODIFIED:20220708T075017Z
UID:1339-1686700800-1686787199@www.gsr.nl
SUMMARY:Examenuitslag tijdvak 1: T4
DESCRIPTION:
URL:https://www.gsr.nl/agenda/examenuitslag-t4/
CATEGORIES:Rijswijk
END:VEVENT
BEGIN:VEVENT
DTSTART;VALUE=DATE:20230629
DTEND;VALUE=DATE:20230630
DTSTAMP:20260421T154654
CREATED:20220708T074816Z
LAST-MODIFIED:20220708T074816Z
UID:1341-1687996800-1688083199@www.gsr.nl
SUMMARY:Sportdag klas 1-3
DESCRIPTION:
URL:https://www.gsr.nl/agenda/sportdag-klas-1-3/
CATEGORIES:Rijswijk
END:VEVENT
BEGIN:VEVENT
DTSTART;VALUE=DATE:20230630
DTEND;VALUE=DATE:20230701
DTSTAMP:20260421T154654
CREATED:20220708T074940Z
LAST-MODIFIED:20220708T074940Z
UID:1345-1688083200-1688169599@www.gsr.nl
SUMMARY:Examenuitslag tijdvak 2
DESCRIPTION:
URL:https://www.gsr.nl/agenda/examenuitslag-tijdvak-2/
CATEGORIES:Rotterdam,Rijswijk
END:VEVENT
END:VCALENDAR