BEGIN:VCALENDAR
VERSION:2.0
PRODID:-//GSR - ECPv6.15.17//NONSGML v1.0//EN
CALSCALE:GREGORIAN
METHOD:PUBLISH
X-ORIGINAL-URL:https://www.gsr.nl
X-WR-CALDESC:Evenementen voor GSR
REFRESH-INTERVAL;VALUE=DURATION:PT1H
X-Robots-Tag:noindex
X-PUBLISHED-TTL:PT1H
BEGIN:VTIMEZONE
TZID:Europe/Amsterdam
BEGIN:DAYLIGHT
TZOFFSETFROM:+0100
TZOFFSETTO:+0200
TZNAME:CEST
DTSTART:20220327T010000
END:DAYLIGHT
BEGIN:STANDARD
TZOFFSETFROM:+0200
TZOFFSETTO:+0100
TZNAME:CET
DTSTART:20221030T010000
END:STANDARD
BEGIN:DAYLIGHT
TZOFFSETFROM:+0100
TZOFFSETTO:+0200
TZNAME:CEST
DTSTART:20230326T010000
END:DAYLIGHT
BEGIN:STANDARD
TZOFFSETFROM:+0200
TZOFFSETTO:+0100
TZNAME:CET
DTSTART:20231029T010000
END:STANDARD
BEGIN:DAYLIGHT
TZOFFSETFROM:+0100
TZOFFSETTO:+0200
TZNAME:CEST
DTSTART:20240331T010000
END:DAYLIGHT
BEGIN:STANDARD
TZOFFSETFROM:+0200
TZOFFSETTO:+0100
TZNAME:CET
DTSTART:20241027T010000
END:STANDARD
END:VTIMEZONE
BEGIN:VEVENT
DTSTART;VALUE=DATE:20230404
DTEND;VALUE=DATE:20230405
DTSTAMP:20260421T125918
CREATED:20230310T135054Z
LAST-MODIFIED:20230310T135054Z
UID:1795-1680566400-1680652799@www.gsr.nl
SUMMARY:Excursie Aken (2e klassen)
DESCRIPTION:
URL:https://www.gsr.nl/agenda/excursie-aken-2e-klassen/
CATEGORIES:Rotterdam,Rijswijk
END:VEVENT
BEGIN:VEVENT
DTSTART;VALUE=DATE:20230406
DTEND;VALUE=DATE:20230407
DTSTAMP:20260421T125918
CREATED:20220708T073901Z
LAST-MODIFIED:20220708T073901Z
UID:1330-1680739200-1680825599@www.gsr.nl
SUMMARY:Paasviering
DESCRIPTION:
URL:https://www.gsr.nl/agenda/paasviering/
CATEGORIES:Rotterdam,Rijswijk
END:VEVENT
BEGIN:VEVENT
DTSTART;TZID=Europe/Amsterdam:20230411T193000
DTEND;TZID=Europe/Amsterdam:20230411T210000
DTSTAMP:20260421T125918
CREATED:20230310T134358Z
LAST-MODIFIED:20230310T134358Z
UID:1785-1681241400-1681246800@www.gsr.nl
SUMMARY:Ouderavond Jongerencultuur
DESCRIPTION:Hoe hebben we als ouders en als docenten invloed op wat er bij de pubers speelt? \nIn onze visie spreken we uit dat we met ouders de verbinding zoeken tussen het onderwijs op school en de (geloofs-) opvoeding thuis. Daarom nodigen we u graag uit voor een ouderavond over jongerencultuur.\n\n“We worden geraakt door de gebrokenheid en geestelijke nood in de levens van jongeren. Jongeren worstelen met eenzaamheid\, psychische problemen\, onveiligheid\, armoede en kennen God vaak niet persoonlijk.” Dit citaat is afkomstig van de website van Jonathan en Janine Pellegrom\, jongerenwerkers in Rotterdam. Deze nood en gebrokenheid raakt ook onze jongeren en uw kind (eren). \n\nOp 11 april 2023 komt Jonathan op de GSR om met u en ons van gedachten te wisselen over de huidige jongerencultuur. Jonathan Pellegrom is teamleider van Youth for Christ Rotterdam\, spreker en auteur. Al ruim 12 jaar werkt hij met straatjongeren in Rotterdam en is hij betrokken bij kerkelijk jeugdwerk\, jeugdzorg en pleegzorg. Samen met Corine Zonnenberg schreef hij het boek (P)ubergeschikt (yfc.nl).\n\nVan harte welkom om hierbij aanwezig te zijn. We kijken er naar uit om met elkaar in gesprek te gaan!\nAanmelden voor deze avond kan via deze link.\n\nDatum: dinsdag 11 april 2023\nTijdstip: 19.30 uur (inloop vanaf 19.15 uur) – 21.00 uur\nLocatie: GSR Rotterdam.
URL:https://www.gsr.nl/agenda/ouderavond-jongerencultuur/
CATEGORIES:Rotterdam,Rijswijk
END:VEVENT
BEGIN:VEVENT
DTSTART;VALUE=DATE:20230418
DTEND;VALUE=DATE:20230422
DTSTAMP:20260421T125918
CREATED:20230419T083520Z
LAST-MODIFIED:20230419T083744Z
UID:1828-1681776000-1682121599@www.gsr.nl
SUMMARY:Grote Avond
DESCRIPTION:
URL:https://www.gsr.nl/agenda/grote-avond-2/
CATEGORIES:Rotterdam,Rijswijk
END:VEVENT
BEGIN:VEVENT
DTSTART;VALUE=DATE:20230422
DTEND;VALUE=DATE:20230507
DTSTAMP:20260421T125918
CREATED:20220705T133608Z
LAST-MODIFIED:20220705T133608Z
UID:1312-1682121600-1683417599@www.gsr.nl
SUMMARY:Meivakantie
DESCRIPTION:
URL:https://www.gsr.nl/agenda/meivakantie-2/
CATEGORIES:Rotterdam,Rijswijk
END:VEVENT
END:VCALENDAR