BEGIN:VCALENDAR
VERSION:2.0
PRODID:-//GSR - ECPv6.15.17//NONSGML v1.0//EN
CALSCALE:GREGORIAN
METHOD:PUBLISH
X-ORIGINAL-URL:https://www.gsr.nl
X-WR-CALDESC:Evenementen voor GSR
REFRESH-INTERVAL;VALUE=DURATION:PT1H
X-Robots-Tag:noindex
X-PUBLISHED-TTL:PT1H
BEGIN:VTIMEZONE
TZID:Europe/Amsterdam
BEGIN:DAYLIGHT
TZOFFSETFROM:+0100
TZOFFSETTO:+0200
TZNAME:CEST
DTSTART:20210328T010000
END:DAYLIGHT
BEGIN:STANDARD
TZOFFSETFROM:+0200
TZOFFSETTO:+0100
TZNAME:CET
DTSTART:20211031T010000
END:STANDARD
BEGIN:DAYLIGHT
TZOFFSETFROM:+0100
TZOFFSETTO:+0200
TZNAME:CEST
DTSTART:20220327T010000
END:DAYLIGHT
BEGIN:STANDARD
TZOFFSETFROM:+0200
TZOFFSETTO:+0100
TZNAME:CET
DTSTART:20221030T010000
END:STANDARD
BEGIN:DAYLIGHT
TZOFFSETFROM:+0100
TZOFFSETTO:+0200
TZNAME:CEST
DTSTART:20230326T010000
END:DAYLIGHT
BEGIN:STANDARD
TZOFFSETFROM:+0200
TZOFFSETTO:+0100
TZNAME:CET
DTSTART:20231029T010000
END:STANDARD
END:VTIMEZONE
BEGIN:VEVENT
DTSTART;TZID=Europe/Amsterdam:20221004T200000
DTEND;TZID=Europe/Amsterdam:20221004T210000
DTSTAMP:20260421T185326
CREATED:20220909T080337Z
LAST-MODIFIED:20220909T080354Z
UID:1428-1664913600-1664917200@www.gsr.nl
SUMMARY:Startavond Vrienden van de GSR
DESCRIPTION:De Stichting Vrienden van de GSR organiseert een bijzondere avond voor Vrienden\, ouders en docenten. \nKom luisteren naar de bijzondere verhalen van oud-leerling\, kunstenaar en ondernemer Jurjen van Houwelingen en Fred Hissink van Stichting Bartimeus. Beide heren hebben hun zicht verloren en hebben moeten leren om te gaan met tegenslag. Laat u/je inspireren door hun verhalen over veerkracht. Komt u / kom jij ook? Meld je aan via de website.
URL:https://www.gsr.nl/agenda/startavond-vrienden-van-de-gsr/
CATEGORIES:Rotterdam,Rijswijk
END:VEVENT
BEGIN:VEVENT
DTSTART;TZID=Europe/Amsterdam:20221011T193000
DTEND;TZID=Europe/Amsterdam:20221011T203000
DTSTAMP:20260421T185326
CREATED:20220909T081041Z
LAST-MODIFIED:20220909T081041Z
UID:1431-1665516600-1665520200@www.gsr.nl
SUMMARY:Identiteitsavond ouders brugklassen
DESCRIPTION:
URL:https://www.gsr.nl/agenda/identiteitsavond-ouders-brugklassen/
CATEGORIES:Rijswijk
END:VEVENT
BEGIN:VEVENT
DTSTART;TZID=Europe/Amsterdam:20221012T140000
DTEND;TZID=Europe/Amsterdam:20221012T163000
DTSTAMP:20260421T185326
CREATED:20220826T110326Z
LAST-MODIFIED:20220921T073457Z
UID:1385-1665583200-1665592200@www.gsr.nl
SUMMARY:GSR Experience Rijswijk (1)
DESCRIPTION:Zit jij in groep 8 en wil je naar een supertoffe\, christelijke middelbare school? Dan is nú het moment om de school van jouw keuze te vinden. Of de GSR bij je past ontdek je tijdens de GSR Experience. Een open lesmiddag op woensdagmiddag waarop je twee echte lessen volgt! De middag start om 14.30 uur (inloop 14.00 uur) en duurt tot ongeveer 16.15 uur. Meer informatie vind je hier.  \nMeld je aan via het aanmeldformulier.
URL:https://www.gsr.nl/agenda/gsr-experience-rw1/
CATEGORIES:Rijswijk
END:VEVENT
BEGIN:VEVENT
DTSTART;VALUE=DATE:20221022
DTEND;VALUE=DATE:20221030
DTSTAMP:20260421T185326
CREATED:20220705T133354Z
LAST-MODIFIED:20220705T133354Z
UID:1306-1666396800-1667087999@www.gsr.nl
SUMMARY:Herfstvakantie
DESCRIPTION:
URL:https://www.gsr.nl/agenda/herfstvakantie/
CATEGORIES:Rotterdam,Rijswijk
END:VEVENT
END:VCALENDAR